BEGIN:VCALENDAR
VERSION:2.0
CALSCALE:GREGORIAN
METHOD:PUBLISH
X-WR-TIMEZONE:Australia/Sydney
BEGIN:VTIMEZONE
TZID:Australia/Sydney
BEGIN:STANDARD
TZNAME:AEST
DTSTART:19700101T000000
TZOFFSETFROM:+1100
TZOFFSETTO:+1000
END:STANDARD
END:VTIMEZONE
BEGIN:VEVENT
DTSTART;TZID=Australia/Sydney:20260401T003000
DTEND;TZID=Australia/Sydney:20260401T153000
DTSTAMP:20260422T230248
UID:1116
SUMMARY:John Monash Science School Little Scientists Big Science AND Mini Mathematicians Immersion Program-  (selected students only)
DESCRIPTION:selected students attend JMSS, Clayton campus to take part in enrichment learning.
SEQUENCE:0
STATUS:CONFIRMED
TRANSP:OPAQUE
END:VEVENT
END:VCALENDAR